BEGIN:VCALENDAR
VERSION:2.0
PRODID:-//Wigan RADAR - ECPv6.15.20//NONSGML v1.0//EN
CALSCALE:GREGORIAN
METHOD:PUBLISH
X-ORIGINAL-URL:https://www.wiganradar.co.uk
X-WR-CALDESC:Events for Wigan RADAR
REFRESH-INTERVAL;VALUE=DURATION:PT1H
X-Robots-Tag:noindex
X-PUBLISHED-TTL:PT1H
BEGIN:VTIMEZONE
TZID:Europe/London
BEGIN:DAYLIGHT
TZOFFSETFROM:+0000
TZOFFSETTO:+0100
TZNAME:BST
DTSTART:20210328T010000
END:DAYLIGHT
BEGIN:STANDARD
TZOFFSETFROM:+0100
TZOFFSETTO:+0000
TZNAME:GMT
DTSTART:20211031T010000
END:STANDARD
BEGIN:DAYLIGHT
TZOFFSETFROM:+0000
TZOFFSETTO:+0100
TZNAME:BST
DTSTART:20220327T010000
END:DAYLIGHT
BEGIN:STANDARD
TZOFFSETFROM:+0100
TZOFFSETTO:+0000
TZNAME:GMT
DTSTART:20221030T010000
END:STANDARD
BEGIN:DAYLIGHT
TZOFFSETFROM:+0000
TZOFFSETTO:+0100
TZNAME:BST
DTSTART:20230326T010000
END:DAYLIGHT
BEGIN:STANDARD
TZOFFSETFROM:+0100
TZOFFSETTO:+0000
TZNAME:GMT
DTSTART:20231029T010000
END:STANDARD
END:VTIMEZONE
BEGIN:VEVENT
DTSTART;TZID=Europe/London:20220715T073000
DTEND;TZID=Europe/London:20220717T193000
DTSTAMP:20260420T233520
CREATED:20220714T155502Z
LAST-MODIFIED:20220714T155502Z
UID:410-1657870200-1658086200@www.wiganradar.co.uk
SUMMARY:RIAT 2022-The Royal International Air Tattoo
DESCRIPTION:The Royal International Air Tattoo \nhttps://www.airtattoo.com/ \n15 JUL AT 07:30 – 17 JUL AT 19:30 \nThe Air Tattoo\, one of the UK’s premier outdoor events\, returns next summer (15-17 July) with an extravaganza of entertainment for all the family.
URL:https://www.wiganradar.co.uk/event/riat-2022-the-royal-international-air-tattoo/
LOCATION:RAF Fairford\, Gloucestershire\, GL7 4EG
CATEGORIES:Airshows
ATTACH;FMTTYPE=image/png:https://www.wiganradar.co.uk/wp-content/uploads/2022/07/271299228_5060302247314299_3723085729032357139_n.png
END:VEVENT
END:VCALENDAR